BEGIN:VCALENDAR
VERSION:2.0
PRODID:-//envivo - ECPv4.6.17//NONSGML v1.0//EN
CALSCALE:GREGORIAN
METHOD:PUBLISH
X-WR-CALNAME:envivo
X-ORIGINAL-URL:https://envivo.com.ec
X-WR-CALDESC:Events for envivo
BEGIN:VEVENT
DTSTART;TZID=UTC-5:20250329T160000
DTEND;TZID=UTC-5:20250329T220000
DTSTAMP:20260422T221318
CREATED:20250222T024942Z
LAST-MODIFIED:20250523T002519Z
UID:3499-1743264000-1743285600@envivo.com.ec
SUMMARY:10 Sobre 10
DESCRIPTION: \n \nEl 29 de marzo\, el Coliseo General Rumiñahui será el escenario del concierto más esperado del año:\n“10 sobre 10”\nEl evento que reunirá a los mejores exponentes del género\, con un formato único de presentaciones artísticas.\nLos géneros más representativos y vibrantes de la música ecuatoriana\, se toman por completo el coliseo\, donde se darán cita los grandes iconos de este estilo que ha marcado generaciones.\nLa productora Proshows Ecuador brindará un espectáculo lleno de energía\, emoción y sobre todo\, mucha música que hará vibrar al público de principio a fin.\n“10 sobre 10” contará con la participación de artistas de renombre como:\nGerardo Moran\, Juanita Burbano\, La Banda 24 de mayo\, Cecilio Alva\, Sahiro\, Anita Lucía Proaño\, Los Hermanos Núñez\, Lorena Tonato\, Jaime Enrique Aymara\, y muchas\nestrellas más.\n
URL:https://envivo.com.ec/evento/10-sobre-10/
LOCATION:Av. Ladrón de Guevara\, Quito\, Pichincha\, 170136\, Ecuador
CATEGORIES:Conciertos
END:VEVENT
END:VCALENDAR