BEGIN:VCALENDAR
VERSION:2.0
PRODID:-//envivo - ECPv4.6.17//NONSGML v1.0//EN
CALSCALE:GREGORIAN
METHOD:PUBLISH
X-WR-CALNAME:envivo
X-ORIGINAL-URL:https://envivo.com.ec
X-WR-CALDESC:Events for envivo
BEGIN:VEVENT
DTSTART;TZID=UTC-5:20260307T150000
DTEND;TZID=UTC-5:20260510T210000
DTSTAMP:20260421T153423
CREATED:20260306T053821Z
LAST-MODIFIED:20260307T043817Z
UID:3582-1772895600-1778446800@envivo.com.ec
SUMMARY:Blow Your Mind - Santo Domingo
DESCRIPTION: \n \nBlow Your Mind es una exhibición inmersiva de arte inflable y experiencias sensoriales\, diseñada para todas las edades. Del 07 de marzo al 10 de mayo estaremos en Santo Domingo.\nTe esperamos en el Bombolí Shopping Piso 1\, junto a Pycca.\nSumérgete en salas temáticas como el mundo marino\, Alicia en el país de las maravillas\, una piscina gigante de pelotas\, cuartos de luces y mucho más.\n📸 Ideal para vivir\, jugar y tomarte fotos increíbles con familia\, amigos o pareja.\n¡Una experiencia única en Ecuador que no te puedes perder!\n  \n
URL:https://envivo.com.ec/evento/blow-your-mind-santo-domingo/
LOCATION:Av. Chone\, Bomboli Shopping\, Santo Domingo\, Santo Domingo\, Ecuador
CATEGORIES:Otros Eventos
ATTACH;FMTTYPE=image/png:https://envivo.com.ec/wp-content/uploads/2026/03/Portada-SD_Mesa-de-trabajo-1.png
END:VEVENT
END:VCALENDAR