BEGIN:VCALENDAR
VERSION:2.0
PRODID:-//envivo - ECPv4.6.17//NONSGML v1.0//EN
CALSCALE:GREGORIAN
METHOD:PUBLISH
X-WR-CALNAME:envivo
X-ORIGINAL-URL:https://envivo.com.ec
X-WR-CALDESC:Events for envivo
BEGIN:VEVENT
DTSTART;VALUE=DATE:20241004
DTEND;VALUE=DATE:20250113
DTSTAMP:20260422T003850
CREATED:20240927T011432Z
LAST-MODIFIED:20241209T151023Z
UID:3447-1728000000-1736726399@envivo.com.ec
SUMMARY:Blow Your Mind Guayaquil
DESCRIPTION: \n\n\nLlega a Ecuador BLOW YOUR MIND\, una espectacular exhibición de arte inflable con 10 salas temáticas.    ¡Te volarán la cabeza!\nDisfruta de instalaciones inflables\, iluminación LED\, proyecciones inmersivas y elementos robotizados interactivos.\nVen en familia\, en pareja\, con amigos\, colegas y vive la emoción de sentirte un niño en una experiencia inolvidable.\n\nDesde el 04 de octubre en la Explanada del Riocentro El Dorado  \nAv. Leon Febres Cordero Ribadeneyra – Samboronón\nGuayaquil – Ecuador\n\n\n
URL:https://envivo.com.ec/evento/blowyourmindguayaquil/
LOCATION:Av León Febres Cordero Ribadeneyra 212b\, Samborondón\, Guayaquil\, Guayas\, 170513\, Ecuador
CATEGORIES:Otros Eventos
END:VEVENT
END:VCALENDAR