BEGIN:VCALENDAR
VERSION:2.0
PRODID:-//envivo - ECPv4.6.17//NONSGML v1.0//EN
CALSCALE:GREGORIAN
METHOD:PUBLISH
X-WR-CALNAME:envivo
X-ORIGINAL-URL:https://envivo.com.ec
X-WR-CALDESC:Events for envivo
BEGIN:VEVENT
DTSTART;VALUE=DATE:20240615
DTEND;VALUE=DATE:20240923
DTSTAMP:20260422T022319
CREATED:20180421T033056Z
LAST-MODIFIED:20240917T160112Z
UID:1622-1718409600-1727049599@envivo.com.ec
SUMMARY:BLOW YOUR MIND
DESCRIPTION: \n\n\nLlega a Ecuador BLOW YOUR MIND una espectacular exhibición de arte inflable con 10 salas temáticas que te volarán la cabeza !!!\nEn BLOW YOUR MIND podrás disfrutar de instalaciones inflables\, iluminación LED\, proyecciones inmersivas y elementos robotizados interactivos.\nDisfruta en familia\, en pareja\, con amigos\, colegas y vive la emoción de sentirte un niño en una experiencia inolvidable.\n\nDesde el 15 de junio en el CCI ARENA\nAv. Naciones Unidas y Av. Amazonas\nQuito – Ecuador\n  \n
URL:https://envivo.com.ec/evento/blowyourmind/
LOCATION:Av. Naciones Unidas y Av. Amazonas\, Quito\, Ecuador
CATEGORIES:Otros Eventos
END:VEVENT
END:VCALENDAR